BEGIN:VCALENDAR
VERSION:2.0
PRODID:-//Petersham Inn - ECPv6.15.20//NONSGML v1.0//EN
CALSCALE:GREGORIAN
METHOD:PUBLISH
X-WR-CALNAME:Petersham Inn
X-ORIGINAL-URL:https://petershaminn.com.au
X-WR-CALDESC:Events for Petersham Inn
REFRESH-INTERVAL;VALUE=DURATION:PT1H
X-Robots-Tag:noindex
X-PUBLISHED-TTL:PT1H
BEGIN:VTIMEZONE
TZID:Australia/Sydney
BEGIN:STANDARD
TZOFFSETFROM:+1100
TZOFFSETTO:+1000
TZNAME:AEST
DTSTART:20240406T160000
END:STANDARD
BEGIN:DAYLIGHT
TZOFFSETFROM:+1000
TZOFFSETTO:+1100
TZNAME:AEDT
DTSTART:20241005T160000
END:DAYLIGHT
BEGIN:STANDARD
TZOFFSETFROM:+1100
TZOFFSETTO:+1000
TZNAME:AEST
DTSTART:20250405T160000
END:STANDARD
BEGIN:DAYLIGHT
TZOFFSETFROM:+1000
TZOFFSETTO:+1100
TZNAME:AEDT
DTSTART:20251004T160000
END:DAYLIGHT
BEGIN:STANDARD
TZOFFSETFROM:+1100
TZOFFSETTO:+1000
TZNAME:AEST
DTSTART:20260404T160000
END:STANDARD
BEGIN:DAYLIGHT
TZOFFSETFROM:+1000
TZOFFSETTO:+1100
TZNAME:AEDT
DTSTART:20261003T160000
END:DAYLIGHT
BEGIN:STANDARD
TZOFFSETFROM:+1100
TZOFFSETTO:+1000
TZNAME:AEST
DTSTART:20270403T160000
END:STANDARD
BEGIN:DAYLIGHT
TZOFFSETFROM:+1000
TZOFFSETTO:+1100
TZNAME:AEDT
DTSTART:20271002T160000
END:DAYLIGHT
END:VTIMEZONE
BEGIN:VEVENT
DTSTART;TZID=Australia/Sydney:20260214T160000
DTEND;TZID=Australia/Sydney:20260214T233000
DTSTAMP:20260425T072800
CREATED:20260131T070746Z
LAST-MODIFIED:20260131T070746Z
UID:8160-1771084800-1771111800@petershaminn.com.au
SUMMARY:Valentines Day
DESCRIPTION:
URL:https://petershaminn.com.au/event/valentines-day/
LOCATION:Petersham Inn\, 386 Parramatta Road\, Petersham\, New South Wales\, 2049\, Australia
ATTACH;FMTTYPE=image/png:https://petershaminn.com.au/wp-content/uploads/2026/01/vdaycover.png
END:VEVENT
BEGIN:VEVENT
DTSTART;VALUE=DATE:20260123
DTEND;VALUE=DATE:20260126
DTSTAMP:20260425T072800
CREATED:20260105T103537Z
LAST-MODIFIED:20260105T103537Z
UID:8131-1769126400-1769385599@petershaminn.com.au
SUMMARY:Australia Day Long Weekend
DESCRIPTION:
URL:https://petershaminn.com.au/event/australia-day-long-weekend/
LOCATION:Petersham Inn\, 386 Parramatta Road\, Petersham\, New South Wales\, 2049\, Australia
ATTACH;FMTTYPE=image/png:https://petershaminn.com.au/wp-content/uploads/2026/01/longweekcover.png
END:VEVENT
BEGIN:VEVENT
DTSTART;TZID=Australia/Sydney:20260101T100000
DTEND;TZID=Australia/Sydney:20260101T233000
DTSTAMP:20260425T072800
CREATED:20251217T112313Z
LAST-MODIFIED:20251217T112313Z
UID:8108-1767261600-1767310200@petershaminn.com.au
SUMMARY:New Years Day
DESCRIPTION:
URL:https://petershaminn.com.au/event/new-years-day/
LOCATION:Petersham Inn\, 386 Parramatta Road\, Petersham\, New South Wales\, 2049\, Australia
ATTACH;FMTTYPE=image/png:https://petershaminn.com.au/wp-content/uploads/2025/12/nydcover.png
END:VEVENT
BEGIN:VEVENT
DTSTART;TZID=Australia/Sydney:20251226T100000
DTEND;TZID=Australia/Sydney:20251226T233000
DTSTAMP:20260425T072800
CREATED:20251217T113958Z
LAST-MODIFIED:20251217T113958Z
UID:8112-1766743200-1766791800@petershaminn.com.au
SUMMARY:Boxing Day
DESCRIPTION:
URL:https://petershaminn.com.au/event/boxing-day/
LOCATION:New South Wales
ATTACH;FMTTYPE=image/png:https://petershaminn.com.au/wp-content/uploads/2025/12/boxingdaycover.png
END:VEVENT
BEGIN:VEVENT
DTSTART;TZID=Australia/Sydney:20251219T100000
DTEND;TZID=Australia/Sydney:20251219T233000
DTSTAMP:20260425T072800
CREATED:20251216T063602Z
LAST-MODIFIED:20251216T063602Z
UID:8103-1766138400-1766187000@petershaminn.com.au
SUMMARY:PI's XXXMAS Party
DESCRIPTION:
URL:https://petershaminn.com.au/event/pis-xxxmas-party-2/
LOCATION:Petersham Inn\, 386 Parramatta Road\, Petersham\, New South Wales\, 2049\, Australia
ATTACH;FMTTYPE=image/png:https://petershaminn.com.au/wp-content/uploads/2025/12/xxxmascover.png
END:VEVENT
BEGIN:VEVENT
DTSTART;TZID=Australia/Sydney:20251122T100000
DTEND;TZID=Australia/Sydney:20251122T233000
DTSTAMP:20260425T072800
CREATED:20251110T060238Z
LAST-MODIFIED:20251110T060238Z
UID:8029-1763805600-1763854200@petershaminn.com.au
SUMMARY:Dark Elegance Night
DESCRIPTION:
URL:https://petershaminn.com.au/event/dark-elegance-night/
LOCATION:Petersham Inn\, 386 Parramatta Road\, Petersham\, New South Wales\, 2049\, Australia
ATTACH;FMTTYPE=image/png:https://petershaminn.com.au/wp-content/uploads/2025/11/darkelegancecover.png
END:VEVENT
BEGIN:VEVENT
DTSTART;TZID=Australia/Sydney:20251104T113000
DTEND;TZID=Australia/Sydney:20251104T143000
DTSTAMP:20260425T072800
CREATED:20251025T070510Z
LAST-MODIFIED:20251025T070510Z
UID:8000-1762255800-1762266600@petershaminn.com.au
SUMMARY:Pool Competition
DESCRIPTION:
URL:https://petershaminn.com.au/event/pool-competition/
LOCATION:New South Wales
ATTACH;FMTTYPE=image/png:https://petershaminn.com.au/wp-content/uploads/2025/10/poolcompcover.png
END:VEVENT
BEGIN:VEVENT
DTSTART;VALUE=DATE:20251104
DTEND;VALUE=DATE:20251105
DTSTAMP:20260425T072800
CREATED:20251001T084030Z
LAST-MODIFIED:20251001T084421Z
UID:7926-1762214400-1762300799@petershaminn.com.au
SUMMARY:Melbourne Cup Day
DESCRIPTION:
URL:https://petershaminn.com.au/event/melbourne-cup-day/
LOCATION:Petersham Inn\, 386 Parramatta Road\, Petersham\, New South Wales\, 2049\, Australia
ATTACH;FMTTYPE=image/png:https://petershaminn.com.au/wp-content/uploads/2025/10/melbcupcover.png
END:VEVENT
BEGIN:VEVENT
DTSTART;TZID=Australia/Sydney:20251018T100000
DTEND;TZID=Australia/Sydney:20251018T233000
DTSTAMP:20260425T072800
CREATED:20250910T085431Z
LAST-MODIFIED:20250929T023922Z
UID:7852-1760781600-1760830200@petershaminn.com.au
SUMMARY:Oktobertease
DESCRIPTION:
URL:https://petershaminn.com.au/event/oktobertease/
LOCATION:Petersham Inn\, 386 Parramatta Road\, Petersham\, New South Wales\, 2049\, Australia
ATTACH;FMTTYPE=image/png:https://petershaminn.com.au/wp-content/uploads/2025/09/oktoberfestcover.png
END:VEVENT
BEGIN:VEVENT
DTSTART;TZID=Australia/Sydney:20251005T100000
DTEND;TZID=Australia/Sydney:20251005T220000
DTSTAMP:20260425T072800
CREATED:20250901T090318Z
LAST-MODIFIED:20250901T090318Z
UID:7810-1759658400-1759701600@petershaminn.com.au
SUMMARY:NRL Grand Final
DESCRIPTION:
URL:https://petershaminn.com.au/event/nrl-grand-final-3/
LOCATION:Petersham Inn\, 386 Parramatta Road\, Petersham\, New South Wales\, 2049\, Australia
ATTACH;FMTTYPE=image/png:https://petershaminn.com.au/wp-content/uploads/2025/09/nrlcover.png
END:VEVENT
BEGIN:VEVENT
DTSTART;TZID=Australia/Sydney:20251004T220000
DTEND;TZID=Australia/Sydney:20251004T223000
DTSTAMP:20260425T072800
CREATED:20250928T094043Z
LAST-MODIFIED:20250928T094043Z
UID:7908-1759615200-1759617000@petershaminn.com.au
SUMMARY:Showgirl: Yasmin Scott
DESCRIPTION:
URL:https://petershaminn.com.au/event/showgirl-yasmin-scott/
LOCATION:Petersham Inn\, 386 Parramatta Road\, Petersham\, New South Wales\, 2049\, Australia
ATTACH;FMTTYPE=image/png:https://petershaminn.com.au/wp-content/uploads/2025/09/yasmin.png
END:VEVENT
BEGIN:VEVENT
DTSTART;VALUE=DATE:20251002
DTEND;VALUE=DATE:20251006
DTSTAMP:20260425T072800
CREATED:20250928T060948Z
LAST-MODIFIED:20250928T074635Z
UID:7900-1759363200-1759708799@petershaminn.com.au
SUMMARY:Labor Day Long Weekend
DESCRIPTION:
URL:https://petershaminn.com.au/event/labor-day-long-weekend/
LOCATION:Petersham Inn\, 386 Parramatta Road\, Petersham\, New South Wales\, 2049\, Australia
ATTACH;FMTTYPE=image/png:https://petershaminn.com.au/wp-content/uploads/2025/09/labourdaycover.png
END:VEVENT
BEGIN:VEVENT
DTSTART;TZID=Australia/Sydney:20250920T190000
DTEND;TZID=Australia/Sydney:20250920T233000
DTSTAMP:20260425T072800
CREATED:20250830T072643Z
LAST-MODIFIED:20250908T082700Z
UID:7780-1758394800-1758411000@petershaminn.com.au
SUMMARY:Tropixxx Party
DESCRIPTION:
URL:https://petershaminn.com.au/event/tropixxx-party/
LOCATION:Petersham Inn\, 386 Parramatta Road\, Petersham\, New South Wales\, 2049\, Australia
ATTACH;FMTTYPE=image/png:https://petershaminn.com.au/wp-content/uploads/2025/08/tropixxxcover-1.png
END:VEVENT
BEGIN:VEVENT
DTSTART;TZID=Australia/Sydney:20250918T190000
DTEND;TZID=Australia/Sydney:20250920T233000
DTSTAMP:20260425T072800
CREATED:20250830T110827Z
LAST-MODIFIED:20250830T110827Z
UID:7785-1758222000-1758411000@petershaminn.com.au
SUMMARY:Delilah Daniels
DESCRIPTION:
URL:https://petershaminn.com.au/event/delilah-daniels/
LOCATION:Petersham Inn\, 386 Parramatta Road\, Petersham\, New South Wales\, 2049\, Australia
ATTACH;FMTTYPE=image/png:https://petershaminn.com.au/wp-content/uploads/2025/08/delilahcovee.png
END:VEVENT
BEGIN:VEVENT
DTSTART;TZID=Australia/Sydney:20250906T190000
DTEND;TZID=Australia/Sydney:20250906T233000
DTSTAMP:20260425T072800
CREATED:20250716T105938Z
LAST-MODIFIED:20250716T105938Z
UID:7610-1757185200-1757201400@petershaminn.com.au
SUMMARY:Cake & Corsets Party
DESCRIPTION:
URL:https://petershaminn.com.au/event/cake-corsets-party/
LOCATION:Petersham Inn\, 386 Parramatta Road\, Petersham\, New South Wales\, 2049\, Australia
ATTACH;FMTTYPE=image/png:https://petershaminn.com.au/wp-content/uploads/2025/07/cakecover.png
END:VEVENT
BEGIN:VEVENT
DTSTART;TZID=Australia/Sydney:20250802T190000
DTEND;TZID=Australia/Sydney:20250802T233000
DTSTAMP:20260425T072800
CREATED:20250614T030209Z
LAST-MODIFIED:20250614T030209Z
UID:7432-1754161200-1754177400@petershaminn.com.au
SUMMARY:PIMP & HOES PARTY
DESCRIPTION:
URL:https://petershaminn.com.au/event/pimp-hoes-party/
LOCATION:Petersham Inn\, 386 Parramatta Road\, Petersham\, New South Wales\, 2049\, Australia
ATTACH;FMTTYPE=image/png:https://petershaminn.com.au/wp-content/uploads/2025/06/pimpcover.png
END:VEVENT
BEGIN:VEVENT
DTSTART;TZID=Australia/Sydney:20250726T200000
DTEND;TZID=Australia/Sydney:20250726T233000
DTSTAMP:20260425T072800
CREATED:20250721T103445Z
LAST-MODIFIED:20250721T103445Z
UID:7634-1753560000-1753572600@petershaminn.com.au
SUMMARY:Showgirl: Delilah Daniels
DESCRIPTION:
URL:https://petershaminn.com.au/event/showgirl-delilah-daniels/
LOCATION:Petersham Inn\, 386 Parramatta Road\, Petersham\, New South Wales\, 2049\, Australia
ATTACH;FMTTYPE=image/png:https://petershaminn.com.au/wp-content/uploads/2025/07/delilahcover.png
END:VEVENT
BEGIN:VEVENT
DTSTART;TZID=Australia/Sydney:20250628T160000
DTEND;TZID=Australia/Sydney:20250628T233000
DTSTAMP:20260425T072800
CREATED:20250501T034850Z
LAST-MODIFIED:20250501T035219Z
UID:7293-1751126400-1751153400@petershaminn.com.au
SUMMARY:Miss Nude NSW Heat
DESCRIPTION:
URL:https://petershaminn.com.au/event/miss-nude-nsw-heat/
LOCATION:Petersham Inn\, 386 Parramatta Road\, Petersham\, New South Wales\, 2049\, Australia
ATTACH;FMTTYPE=image/png:https://petershaminn.com.au/wp-content/uploads/2025/05/missnudecover.png
END:VEVENT
BEGIN:VEVENT
DTSTART;TZID=Australia/Sydney:20250618T200000
DTEND;TZID=Australia/Sydney:20250618T233000
DTSTAMP:20260425T072800
CREATED:20250507T040107Z
LAST-MODIFIED:20250507T040107Z
UID:7327-1750276800-1750289400@petershaminn.com.au
SUMMARY:State of Origin: Game 2
DESCRIPTION:
URL:https://petershaminn.com.au/event/state-of-origin-game-2-3/
LOCATION:Petersham Inn\, 386 Parramatta Road\, Petersham\, New South Wales\, 2049\, Australia
ATTACH;FMTTYPE=image/png:https://petershaminn.com.au/wp-content/uploads/2025/05/origincover-1.png
END:VEVENT
BEGIN:VEVENT
DTSTART;TZID=Australia/Sydney:20250606T120000
DTEND;TZID=Australia/Sydney:20250606T233000
DTSTAMP:20260425T072800
CREATED:20250422T090830Z
LAST-MODIFIED:20250423T105632Z
UID:7263-1749211200-1749252600@petershaminn.com.au
SUMMARY:Ride Me Rodeo: 9th Birthday
DESCRIPTION:
URL:https://petershaminn.com.au/event/ride-me-rodeo-9th-birthday/
LOCATION:Petersham Inn\, 386 Parramatta Road\, Petersham\, New South Wales\, 2049\, Australia
ATTACH;FMTTYPE=image/png:https://petershaminn.com.au/wp-content/uploads/2025/04/rodeocover.png
END:VEVENT
BEGIN:VEVENT
DTSTART;TZID=Australia/Sydney:20250528T200000
DTEND;TZID=Australia/Sydney:20250528T233000
DTSTAMP:20260425T072800
CREATED:20250503T113433Z
LAST-MODIFIED:20250503T113433Z
UID:7312-1748462400-1748475000@petershaminn.com.au
SUMMARY:State of Origin: Game 1
DESCRIPTION:
URL:https://petershaminn.com.au/event/state-of-origin-game-1-3/
LOCATION:Petersham Inn\, 386 Parramatta Road\, Petersham\, New South Wales\, 2049\, Australia
ATTACH;FMTTYPE=image/png:https://petershaminn.com.au/wp-content/uploads/2025/05/origincover-1.png
END:VEVENT
BEGIN:VEVENT
DTSTART;TZID=Australia/Sydney:20250523T133000
DTEND;TZID=Australia/Sydney:20250523T153000
DTSTAMP:20260425T072800
CREATED:20250516T105836Z
LAST-MODIFIED:20250516T110141Z
UID:7344-1748007000-1748014200@petershaminn.com.au
SUMMARY:Cherry Pop Lunchtime Show
DESCRIPTION:
URL:https://petershaminn.com.au/event/cherry-pop-lunchtime-show/
LOCATION:Petersham Inn\, 386 Parramatta Road\, Petersham\, New South Wales\, 2049\, Australia
ATTACH;FMTTYPE=image/png:https://petershaminn.com.au/wp-content/uploads/2025/05/cherrycover-2.png
END:VEVENT
BEGIN:VEVENT
DTSTART;TZID=Australia/Sydney:20250515T220000
DTEND;TZID=Australia/Sydney:20250515T223000
DTSTAMP:20260425T072800
CREATED:20250512T092108Z
LAST-MODIFIED:20250512T092108Z
UID:7331-1747346400-1747348200@petershaminn.com.au
SUMMARY:Jelly Wrestling Thursdays
DESCRIPTION:
URL:https://petershaminn.com.au/event/jelly-wrestling-thursdays/
LOCATION:Petersham Inn\, 386 Parramatta Road\, Petersham\, New South Wales\, 2049\, Australia
ATTACH;FMTTYPE=image/png:https://petershaminn.com.au/wp-content/uploads/2025/05/jellycover.png
END:VEVENT
BEGIN:VEVENT
DTSTART;TZID=Australia/Sydney:20250425T100000
DTEND;TZID=Australia/Sydney:20250425T233000
DTSTAMP:20260425T072800
CREATED:20250413T085303Z
LAST-MODIFIED:20250413T102718Z
UID:7244-1745575200-1745623800@petershaminn.com.au
SUMMARY:Anzac Day
DESCRIPTION:
URL:https://petershaminn.com.au/event/anzac-day/
LOCATION:Petersham Inn\, 386 Parramatta Road\, Petersham\, New South Wales\, 2049\, Australia
ATTACH;FMTTYPE=image/png:https://petershaminn.com.au/wp-content/uploads/2025/04/anzacdaycover.png
END:VEVENT
BEGIN:VEVENT
DTSTART;TZID=Australia/Sydney:20250418T100000
DTEND;TZID=Australia/Sydney:20250418T220000
DTSTAMP:20260425T072800
CREATED:20250412T120333Z
LAST-MODIFIED:20250412T120333Z
UID:7239-1744970400-1745013600@petershaminn.com.au
SUMMARY:Good Friday
DESCRIPTION:
URL:https://petershaminn.com.au/event/good-friday/
LOCATION:Petersham Inn\, 386 Parramatta Road\, Petersham\, New South Wales\, 2049\, Australia
ATTACH;FMTTYPE=image/png:https://petershaminn.com.au/wp-content/uploads/2025/04/fridaycover.png
END:VEVENT
BEGIN:VEVENT
DTSTART;TZID=Australia/Sydney:20250417T160000
DTEND;TZID=Australia/Sydney:20250417T233000
DTSTAMP:20260425T072800
CREATED:20250412T115824Z
LAST-MODIFIED:20250412T115824Z
UID:7235-1744905600-1744932600@petershaminn.com.au
SUMMARY:Bunny Mansion Party
DESCRIPTION:
URL:https://petershaminn.com.au/event/bunny-mansion-party/
LOCATION:Petersham Inn\, 386 Parramatta Road\, Petersham\, New South Wales\, 2049\, Australia
ATTACH;FMTTYPE=image/png:https://petershaminn.com.au/wp-content/uploads/2025/04/bunnycover.png
END:VEVENT
BEGIN:VEVENT
DTSTART;TZID=Australia/Sydney:20250405T190000
DTEND;TZID=Australia/Sydney:20250405T233000
DTSTAMP:20260425T072800
CREATED:20250319T230852Z
LAST-MODIFIED:20250319T230954Z
UID:7183-1743879600-1743895800@petershaminn.com.au
SUMMARY:Disco Inferno: 80s Night
DESCRIPTION:
URL:https://petershaminn.com.au/event/disco-inferno-80s-night/
LOCATION:Petersham Inn\, 386 Parramatta Road\, Petersham\, New South Wales\, 2049\, Australia
ATTACH;FMTTYPE=image/png:https://petershaminn.com.au/wp-content/uploads/2025/03/discoinfernocover.png
END:VEVENT
BEGIN:VEVENT
DTSTART;TZID=Australia/Sydney:20250322T190000
DTEND;TZID=Australia/Sydney:20250322T233000
DTSTAMP:20260425T072800
CREATED:20250216T020110Z
LAST-MODIFIED:20250216T020110Z
UID:7142-1742670000-1742686200@petershaminn.com.au
SUMMARY:Scarlet's Desire: Red Carpet Event
DESCRIPTION:
URL:https://petershaminn.com.au/event/scarlets-desire-red-carpet-event/
LOCATION:Petersham Inn\, 386 Parramatta Road\, Petersham\, New South Wales\, 2049\, Australia
ATTACH;FMTTYPE=image/png:https://petershaminn.com.au/wp-content/uploads/2025/02/scarletcover.png
END:VEVENT
BEGIN:VEVENT
DTSTART;TZID=Australia/Sydney:20250220T190000
DTEND;TZID=Australia/Sydney:20250222T233000
DTSTAMP:20260425T072800
CREATED:20250216T082132Z
LAST-MODIFIED:20250216T082132Z
UID:7147-1740078000-1740267000@petershaminn.com.au
SUMMARY:Lola Locket: Showgirl
DESCRIPTION:
URL:https://petershaminn.com.au/event/lola-locket-showgirl/
LOCATION:Petersham Inn\, 386 Parramatta Road\, Petersham\, New South Wales\, 2049\, Australia
ATTACH;FMTTYPE=image/png:https://petershaminn.com.au/wp-content/uploads/2025/02/lolacover.png
END:VEVENT
BEGIN:VEVENT
DTSTART;TZID=Australia/Sydney:20250214T120000
DTEND;TZID=Australia/Sydney:20250214T233000
DTSTAMP:20260425T072800
CREATED:20250207T031717Z
LAST-MODIFIED:20250207T031717Z
UID:7125-1739534400-1739575800@petershaminn.com.au
SUMMARY:Cupid's Cabaret: Valentines Day
DESCRIPTION:
URL:https://petershaminn.com.au/event/cupids-cabaret-valentines-day/
LOCATION:Petersham Inn\, 386 Parramatta Road\, Petersham\, New South Wales\, 2049\, Australia
ATTACH;FMTTYPE=image/png:https://petershaminn.com.au/wp-content/uploads/2025/02/cupidscabaretevent.png
END:VEVENT
END:VCALENDAR